BEGIN:VCALENDAR
VERSION:2.0
PRODID:-//パン教室 ブランシュ　− 東京都日野市の自宅パン教室 − - ECPv1.0//NONSGML v1.0//EN
CALSCALE:GREGORIAN
METHOD:PUBLISH
X-WR-CALNAME:パン教室 ブランシュ　− 東京都日野市の自宅パン教室 −
X-ORIGINAL-URL:https://blanc-jp.com
X-WR-CALDESC:Events for パン教室 ブランシュ　− 東京都日野市の自宅パン教室 −
BEGIN:VEVENT
DTSTART;VALUE=DATE:20230901
DTEND;VALUE=DATE:20230901
DTSTAMP:20260423T214758
UID:1273-1693526400-1693526400@https://blanc-jp.com
SUMMARY:＊＊＊
DESCRIPTION:お勉強
END:VEVENT
BEGIN:VEVENT
DTSTART;VALUE=DATE:20230906
DTEND;VALUE=DATE:20230906
DTSTAMP:20260423T214758
UID:1274-1693958400-1693958400@https://blanc-jp.com
SUMMARY:師範研究科
DESCRIPTION:編みパン
END:VEVENT
BEGIN:VEVENT
DTSTART;VALUE=DATE:20230908
DTEND;VALUE=DATE:20230908
DTSTAMP:20260423T214758
UID:1275-1694131200-1694131200@https://blanc-jp.com
SUMMARY:単発
DESCRIPTION:【満席】
キャンセル待ち受け付け
END:VEVENT
BEGIN:VEVENT
DTSTART;VALUE=DATE:20230911
DTEND;VALUE=DATE:20230911
DTSTAMP:20260423T214758
UID:1280-1694390400-1694390400@https://blanc-jp.com
SUMMARY:中級
DESCRIPTION:チーズベーコンクッペ
ブリオッシュアテート
オレンジケーキ
END:VEVENT
BEGIN:VEVENT
DTSTART;VALUE=DATE:20230913
DTEND;VALUE=DATE:20230913
DTSTAMP:20260423T214758
UID:1276-1694563200-1694563200@https://blanc-jp.com
SUMMARY:単発
DESCRIPTION:【満席】
キャンセル待ち受付
END:VEVENT
BEGIN:VEVENT
DTSTART;VALUE=DATE:20230914
DTEND;VALUE=DATE:20230914
DTSTAMP:20260423T214758
UID:1277-1694649600-1694649600@https://blanc-jp.com
SUMMARY:単発
DESCRIPTION:残席についてはお問い合わせください
END:VEVENT
BEGIN:VEVENT
DTSTART;VALUE=DATE:20230915
DTEND;VALUE=DATE:20230915
DTSTAMP:20260423T214758
UID:1281-1694736000-1694736000@https://blanc-jp.com
SUMMARY:中級
DESCRIPTION:チーズベーコンクッペ
ブリオッシュアテート
オレンジケーキ
END:VEVENT
BEGIN:VEVENT
DTSTART;VALUE=DATE:20230919
DTEND;VALUE=DATE:20230919
DTSTAMP:20260423T214758
UID:1282-1695081600-1695081600@https://blanc-jp.com
SUMMARY:上級
DESCRIPTION:ブラウンブレッド
チーズスティック
シューケット
END:VEVENT
BEGIN:VEVENT
DTSTART;VALUE=DATE:20230920
DTEND;VALUE=DATE:20230920
DTSTAMP:20260423T214758
UID:1284-1695168000-1695168000@https://blanc-jp.com
SUMMARY:講師研究科
DESCRIPTION:菓子パンバラエティー
END:VEVENT
BEGIN:VEVENT
DTSTART;VALUE=DATE:20230921
DTEND;VALUE=DATE:20230921
DTSTAMP:20260423T214758
UID:1283-1695254400-1695254400@https://blanc-jp.com
SUMMARY:上級
DESCRIPTION:ブラウンブレッド
チーズスティック
シューケット
END:VEVENT
BEGIN:VEVENT
DTSTART;VALUE=DATE:20230926
DTEND;VALUE=DATE:20230926
DTSTAMP:20260423T214758
UID:1301-1695686400-1695686400@https://blanc-jp.com
SUMMARY:洋菓子（単発）
DESCRIPTION:シャインマスカットのリースケーキ
残席１
END:VEVENT
BEGIN:VEVENT
DTSTART;VALUE=DATE:20230927
DTEND;VALUE=DATE:20230927
DTSTAMP:20260423T214758
UID:1278-1695772800-1695772800@https://blanc-jp.com
SUMMARY:単発
DESCRIPTION:【満席】
キャンセル待ち受付
END:VEVENT
BEGIN:VEVENT
DTSTART;VALUE=DATE:20230928
DTEND;VALUE=DATE:20230928
DTSTAMP:20260423T214758
UID:1279-1695859200-1695859200@https://blanc-jp.com
SUMMARY:単発
DESCRIPTION:【満席】
END:VEVENT
END:VCALENDAR