BEGIN:VCALENDAR
VERSION:2.0
PRODID:-//パン教室 ブランシュ　− 東京都日野市の自宅パン教室 − - ECPv1.0//NONSGML v1.0//EN
CALSCALE:GREGORIAN
METHOD:PUBLISH
X-WR-CALNAME:パン教室 ブランシュ　− 東京都日野市の自宅パン教室 −
X-ORIGINAL-URL:https://blanc-jp.com
X-WR-CALDESC:Events for パン教室 ブランシュ　− 東京都日野市の自宅パン教室 −
BEGIN:VEVENT
DTSTART;VALUE=DATE:20241002
DTEND;VALUE=DATE:20241002
DTSTAMP:20260424T143926
UID:1469-1727827200-1727827200@https://blanc-jp.com
SUMMARY:師範研究科
DESCRIPTION:ハリウッドブレッド
カリフブロート
END:VEVENT
BEGIN:VEVENT
DTSTART;VALUE=DATE:20241003
DTEND;VALUE=DATE:20241003
DTSTAMP:20260424T143926
UID:1470-1727913600-1727913600@https://blanc-jp.com
SUMMARY:中級
DESCRIPTION:モンキーブレッド
カイザーゼンメル
豆大福
END:VEVENT
BEGIN:VEVENT
DTSTART;VALUE=DATE:20241004
DTEND;VALUE=DATE:20241004
DTSTAMP:20260424T143926
UID:1471-1728000000-1728000000@https://blanc-jp.com
SUMMARY:＊＊＊
DESCRIPTION:お勉教
END:VEVENT
BEGIN:VEVENT
DTSTART;VALUE=DATE:20241007
DTEND;VALUE=DATE:20241007
DTSTAMP:20260424T143926
UID:1472-1728259200-1728259200@https://blanc-jp.com
SUMMARY:洋菓子Ⅰ
DESCRIPTION:ムースオテベール


END:VEVENT
BEGIN:VEVENT
DTSTART;VALUE=DATE:20241008
DTEND;VALUE=DATE:20241008
DTSTAMP:20260424T143926
UID:1466-1728345600-1728345600@https://blanc-jp.com
SUMMARY:単発
DESCRIPTION:お申し込み受付中
END:VEVENT
BEGIN:VEVENT
DTSTART;VALUE=DATE:20241009
DTEND;VALUE=DATE:20241009
DTSTAMP:20260424T143926
UID:1463-1728432000-1728432000@https://blanc-jp.com
SUMMARY:単発
DESCRIPTION:お申し込み受付中
END:VEVENT
BEGIN:VEVENT
DTSTART;VALUE=DATE:20241010
DTEND;VALUE=DATE:20241010
DTSTAMP:20260424T143926
UID:1464-1728518400-1728518400@https://blanc-jp.com
SUMMARY:単発
DESCRIPTION:お申し込み受付中
END:VEVENT
BEGIN:VEVENT
DTSTART;VALUE=DATE:20241011
DTEND;VALUE=DATE:20241011
DTSTAMP:20260424T143926
UID:1465-1728604800-1728604800@https://blanc-jp.com
SUMMARY:単発
DESCRIPTION:お申し込み受付中
END:VEVENT
BEGIN:VEVENT
DTSTART;VALUE=DATE:20241014
DTEND;VALUE=DATE:20241014
DTSTAMP:20260424T143926
UID:1473-1728864000-1728864000@https://blanc-jp.com
SUMMARY:（スポーツの日）
DESCRIPTION:
END:VEVENT
BEGIN:VEVENT
DTSTART;VALUE=DATE:20241016
DTEND;VALUE=DATE:20241016
DTSTAMP:20260424T143926
UID:1474-1729036800-1729036800@https://blanc-jp.com
SUMMARY:講師研究科
DESCRIPTION:山形食パン
ティーロール
END:VEVENT
BEGIN:VEVENT
DTSTART;VALUE=DATE:20241018
DTEND;VALUE=DATE:20241018
DTSTAMP:20260424T143926
UID:1475-1729209600-1729209600@https://blanc-jp.com
SUMMARY:上級
DESCRIPTION:クランツ
ヨーグルトブレッド
オランジェババロアーズ
END:VEVENT
BEGIN:VEVENT
DTSTART;VALUE=DATE:20241021
DTEND;VALUE=DATE:20241021
DTSTAMP:20260424T143926
UID:1476-1729468800-1729468800@https://blanc-jp.com
SUMMARY:上級
DESCRIPTION:クランツ
ヨーグルトブレッド
オランジェババロワーズ
END:VEVENT
BEGIN:VEVENT
DTSTART;VALUE=DATE:20241023
DTEND;VALUE=DATE:20241023
DTSTAMP:20260424T143926
UID:1467-1729641600-1729641600@https://blanc-jp.com
SUMMARY:単発
DESCRIPTION:お申し込み受付中
END:VEVENT
BEGIN:VEVENT
DTSTART;VALUE=DATE:20241024
DTEND;VALUE=DATE:20241024
DTSTAMP:20260424T143926
UID:1468-1729728000-1729728000@https://blanc-jp.com
SUMMARY:単発
DESCRIPTION:お申し込み受付中
END:VEVENT
BEGIN:VEVENT
DTSTART;VALUE=DATE:20241025
DTEND;VALUE=DATE:20241025
DTSTAMP:20260424T143926
UID:1477-1729814400-1729814400@https://blanc-jp.com
SUMMARY:洋菓子Ⅱ
DESCRIPTION:カーディナルシュニッテン
END:VEVENT
BEGIN:VEVENT
DTSTART;VALUE=DATE:20241028
DTEND;VALUE=DATE:20241028
DTSTAMP:20260424T143926
UID:1478-1730073600-1730073600@https://blanc-jp.com
SUMMARY:洋菓子Ⅱ
DESCRIPTION:カーディナルシュニッテン
END:VEVENT
BEGIN:VEVENT
DTSTART;VALUE=DATE:20241029
DTEND;VALUE=DATE:20241029
DTSTAMP:20260424T143926
UID:1479-1730160000-1730160000@https://blanc-jp.com
SUMMARY:洋菓子Ⅱ
DESCRIPTION:カーディナルシュニッテン
END:VEVENT
END:VCALENDAR