BEGIN:VCALENDAR
VERSION:2.0
PRODID:-//パン教室 ブランシュ　− 東京都日野市の自宅パン教室 − - ECPv1.0//NONSGML v1.0//EN
CALSCALE:GREGORIAN
METHOD:PUBLISH
X-WR-CALNAME:パン教室 ブランシュ　− 東京都日野市の自宅パン教室 −
X-ORIGINAL-URL:https://blanc-jp.com
X-WR-CALDESC:Events for パン教室 ブランシュ　− 東京都日野市の自宅パン教室 −
BEGIN:VEVENT
DTSTART;VALUE=DATE:20231004
DTEND;VALUE=DATE:20231004
DTSTAMP:20260423T230213
UID:1290-1696377600-1696377600@https://blanc-jp.com
SUMMARY:師範研究科
DESCRIPTION:スイートポテトロール
ロシニョール
END:VEVENT
BEGIN:VEVENT
DTSTART;VALUE=DATE:20231006
DTEND;VALUE=DATE:20231006
DTSTAMP:20260423T230213
UID:1291-1696550400-1696550400@https://blanc-jp.com
SUMMARY:＊＊＊
DESCRIPTION:勉強
END:VEVENT
BEGIN:VEVENT
DTSTART;VALUE=DATE:20231009
DTEND;VALUE=DATE:20231009
DTSTAMP:20260423T230213
UID:1292-1696809600-1696809600@https://blanc-jp.com
SUMMARY:（スポーツの日）
DESCRIPTION:
END:VEVENT
BEGIN:VEVENT
DTSTART;VALUE=DATE:20231011
DTEND;VALUE=DATE:20231011
DTSTAMP:20260423T230213
UID:1285-1696982400-1696982400@https://blanc-jp.com
SUMMARY:単発
DESCRIPTION:【満席】
キャンセル待ち受付
END:VEVENT
BEGIN:VEVENT
DTSTART;VALUE=DATE:20231012
DTEND;VALUE=DATE:20231012
DTSTAMP:20260423T230213
UID:1286-1697068800-1697068800@https://blanc-jp.com
SUMMARY:単発
DESCRIPTION:【満席】
キャンセル待ち受付
END:VEVENT
BEGIN:VEVENT
DTSTART;VALUE=DATE:20231013
DTEND;VALUE=DATE:20231013
DTSTAMP:20260423T230213
UID:1287-1697155200-1697155200@https://blanc-jp.com
SUMMARY:単発（キャンセル出ました）
DESCRIPTION:残席あり
END:VEVENT
BEGIN:VEVENT
DTSTART;VALUE=DATE:20231016
DTEND;VALUE=DATE:20231016
DTSTAMP:20260423T230213
UID:1293-1697414400-1697414400@https://blanc-jp.com
SUMMARY:中級
DESCRIPTION:キャロットブレッド
デニッシュロール
香ばしうす煎
END:VEVENT
BEGIN:VEVENT
DTSTART;VALUE=DATE:20231018
DTEND;VALUE=DATE:20231018
DTSTAMP:20260423T230213
UID:1297-1697587200-1697587200@https://blanc-jp.com
SUMMARY:講師研究科
DESCRIPTION:プレッツェル
調理パン
END:VEVENT
BEGIN:VEVENT
DTSTART;VALUE=DATE:20231019
DTEND;VALUE=DATE:20231019
DTSTAMP:20260423T230213
UID:1296-1697673600-1697673600@https://blanc-jp.com
SUMMARY:上級
DESCRIPTION:チョコマロン
サブマリン
コーヒーまんじゅう
END:VEVENT
BEGIN:VEVENT
DTSTART;VALUE=DATE:20231020
DTEND;VALUE=DATE:20231020
DTSTAMP:20260423T230213
UID:1295-1697760000-1697760000@https://blanc-jp.com
SUMMARY:中級
DESCRIPTION:キャロットブレッド
デニッシュロール
香ばしうす煎
END:VEVENT
BEGIN:VEVENT
DTSTART;VALUE=DATE:20231023
DTEND;VALUE=DATE:20231023
DTSTAMP:20260423T230213
UID:1298-1698019200-1698019200@https://blanc-jp.com
SUMMARY:洋菓子（コース）
DESCRIPTION:タルト・オ・アルザス
【満席】
END:VEVENT
BEGIN:VEVENT
DTSTART;VALUE=DATE:20231024
DTEND;VALUE=DATE:20231024
DTSTAMP:20260423T230213
UID:1299-1698105600-1698105600@https://blanc-jp.com
SUMMARY:洋菓子（コース）
DESCRIPTION:タルト・オ・アルザス
【満席】
END:VEVENT
BEGIN:VEVENT
DTSTART;VALUE=DATE:20231025
DTEND;VALUE=DATE:20231025
DTSTAMP:20260423T230213
UID:1288-1698192000-1698192000@https://blanc-jp.com
SUMMARY:単発
DESCRIPTION:【満席】
キャンセル待ち受付
END:VEVENT
BEGIN:VEVENT
DTSTART;VALUE=DATE:20231026
DTEND;VALUE=DATE:20231026
DTSTAMP:20260423T230213
UID:1289-1698278400-1698278400@https://blanc-jp.com
SUMMARY:単発
DESCRIPTION:残席1
END:VEVENT
BEGIN:VEVENT
DTSTART;VALUE=DATE:20231027
DTEND;VALUE=DATE:20231027
DTSTAMP:20260423T230213
UID:1294-1698364800-1698364800@https://blanc-jp.com
SUMMARY:上級
DESCRIPTION:チョコマロン
サブマリン
コーヒーまんじゅう
END:VEVENT
END:VCALENDAR