BEGIN:VCALENDAR
VERSION:2.0
PRODID:-//パン教室 ブランシュ　− 東京都日野市の自宅パン教室 − - ECPv1.0//NONSGML v1.0//EN
CALSCALE:GREGORIAN
METHOD:PUBLISH
X-WR-CALNAME:パン教室 ブランシュ　− 東京都日野市の自宅パン教室 −
X-ORIGINAL-URL:https://blanc-jp.com
X-WR-CALDESC:Events for パン教室 ブランシュ　− 東京都日野市の自宅パン教室 −
BEGIN:VEVENT
DTSTART;VALUE=DATE:20240502
DTEND;VALUE=DATE:20240502
DTSTAMP:20260424T074850
UID:1407-1714608000-1714608000@https://blanc-jp.com
SUMMARY:初級
DESCRIPTION:スイートドーナツ
ピッツァ
水ようかん
END:VEVENT
BEGIN:VEVENT
DTSTART;VALUE=DATE:20240508
DTEND;VALUE=DATE:20240508
DTSTAMP:20260424T074850
UID:1401-1715126400-1715126400@https://blanc-jp.com
SUMMARY:単発
DESCRIPTION:【満席】
キャンセル待ち受付
END:VEVENT
BEGIN:VEVENT
DTSTART;VALUE=DATE:20240509
DTEND;VALUE=DATE:20240509
DTSTAMP:20260424T074850
UID:1402-1715212800-1715212800@https://blanc-jp.com
SUMMARY:単発
DESCRIPTION:【満席】
キャンセル待ち受付
END:VEVENT
BEGIN:VEVENT
DTSTART;VALUE=DATE:20240510
DTEND;VALUE=DATE:20240510
DTSTAMP:20260424T074850
UID:1403-1715299200-1715299200@https://blanc-jp.com
SUMMARY:単発
DESCRIPTION:【満席】
キャンセル待ち受付
END:VEVENT
BEGIN:VEVENT
DTSTART;VALUE=DATE:20240513
DTEND;VALUE=DATE:20240513
DTSTAMP:20260424T074850
UID:1408-1715558400-1715558400@https://blanc-jp.com
SUMMARY:中級
DESCRIPTION:ピタ
レーズンツイスト
マンゴープリン
END:VEVENT
BEGIN:VEVENT
DTSTART;VALUE=DATE:20240515
DTEND;VALUE=DATE:20240515
DTSTAMP:20260424T074850
UID:1409-1715731200-1715731200@https://blanc-jp.com
SUMMARY:講師研究科
DESCRIPTION:ビックサンフラワー
ナンテール
END:VEVENT
BEGIN:VEVENT
DTSTART;VALUE=DATE:20240517
DTEND;VALUE=DATE:20240517
DTSTAMP:20260424T074850
UID:1410-1715904000-1715904000@https://blanc-jp.com
SUMMARY:上級
DESCRIPTION:バターフィセル
マルグリット
END:VEVENT
BEGIN:VEVENT
DTSTART;VALUE=DATE:20240521
DTEND;VALUE=DATE:20240521
DTSTAMP:20260424T074850
UID:1404-1716249600-1716249600@https://blanc-jp.com
SUMMARY:単発
DESCRIPTION:残席1
END:VEVENT
BEGIN:VEVENT
DTSTART;VALUE=DATE:20240522
DTEND;VALUE=DATE:20240522
DTSTAMP:20260424T074850
UID:1405-1716336000-1716336000@https://blanc-jp.com
SUMMARY:単発
DESCRIPTION:残席あり
END:VEVENT
BEGIN:VEVENT
DTSTART;VALUE=DATE:20240523
DTEND;VALUE=DATE:20240523
DTSTAMP:20260424T074850
UID:1406-1716422400-1716422400@https://blanc-jp.com
SUMMARY:単発
DESCRIPTION:残席あり
END:VEVENT
END:VCALENDAR