BEGIN:VCALENDAR
VERSION:2.0
PRODID:-//パン教室 ブランシュ　− 東京都日野市の自宅パン教室 − - ECPv1.0//NONSGML v1.0//EN
CALSCALE:GREGORIAN
METHOD:PUBLISH
X-WR-CALNAME:パン教室 ブランシュ　− 東京都日野市の自宅パン教室 −
X-ORIGINAL-URL:https://blanc-jp.com
X-WR-CALDESC:Events for パン教室 ブランシュ　− 東京都日野市の自宅パン教室 −
BEGIN:VEVENT
DTSTART;VALUE=DATE:20240301
DTEND;VALUE=DATE:20240301
DTSTAMP:20260424T051853
UID:1377-1709251200-1709251200@https://blanc-jp.com
SUMMARY:＊＊＊
DESCRIPTION:お勉強
END:VEVENT
BEGIN:VEVENT
DTSTART;VALUE=DATE:20240306
DTEND;VALUE=DATE:20240306
DTSTAMP:20260424T051853
UID:1378-1709683200-1709683200@https://blanc-jp.com
SUMMARY:師範研究科
DESCRIPTION:調理パン
END:VEVENT
BEGIN:VEVENT
DTSTART;VALUE=DATE:20240307
DTEND;VALUE=DATE:20240307
DTSTAMP:20260424T051853
UID:1379-1709769600-1709769600@https://blanc-jp.com
SUMMARY:初級
DESCRIPTION:ロールパン
シナモンロール
フロランタン
END:VEVENT
BEGIN:VEVENT
DTSTART;VALUE=DATE:20240308
DTEND;VALUE=DATE:20240308
DTSTAMP:20260424T051853
UID:1370-1709856000-1709856000@https://blanc-jp.com
SUMMARY:単発
DESCRIPTION:残席1
END:VEVENT
BEGIN:VEVENT
DTSTART;VALUE=DATE:20240311
DTEND;VALUE=DATE:20240311
DTSTAMP:20260424T051853
UID:1380-1710115200-1710115200@https://blanc-jp.com
SUMMARY:中級
DESCRIPTION:デニッシュペストリー
香ばしうす煎
END:VEVENT
BEGIN:VEVENT
DTSTART;VALUE=DATE:20240313
DTEND;VALUE=DATE:20240313
DTSTAMP:20260424T051853
UID:1371-1710288000-1710288000@https://blanc-jp.com
SUMMARY:単発
DESCRIPTION:【満席】
キャンセル待ち受付
END:VEVENT
BEGIN:VEVENT
DTSTART;VALUE=DATE:20240314
DTEND;VALUE=DATE:20240314
DTSTAMP:20260424T051853
UID:1372-1710374400-1710374400@https://blanc-jp.com
SUMMARY:単発
DESCRIPTION:【満席】
キャンセル待ち受付
END:VEVENT
BEGIN:VEVENT
DTSTART;VALUE=DATE:20240315
DTEND;VALUE=DATE:20240315
DTSTAMP:20260424T051853
UID:1373-1710460800-1710460800@https://blanc-jp.com
SUMMARY:上級
DESCRIPTION:フロマージュ
大納言ブレッド
黒胡麻プリン
END:VEVENT
BEGIN:VEVENT
DTSTART;VALUE=DATE:20240318
DTEND;VALUE=DATE:20240318
DTSTAMP:20260424T051853
UID:1381-1710720000-1710720000@https://blanc-jp.com
SUMMARY:講師研究科
DESCRIPTION:高たんぱくパン
無塩パン
END:VEVENT
BEGIN:VEVENT
DTSTART;VALUE=DATE:20240319
DTEND;VALUE=DATE:20240319
DTSTAMP:20260424T051853
UID:1374-1710806400-1710806400@https://blanc-jp.com
SUMMARY:単発（キャンセル出ました）
DESCRIPTION:残席1
END:VEVENT
BEGIN:VEVENT
DTSTART;VALUE=DATE:20240320
DTEND;VALUE=DATE:20240320
DTSTAMP:20260424T051853
UID:1382-1710892800-1710892800@https://blanc-jp.com
SUMMARY:（春分の日）
DESCRIPTION:
END:VEVENT
BEGIN:VEVENT
DTSTART;VALUE=DATE:20240325
DTEND;VALUE=DATE:20240325
DTSTAMP:20260424T051853
UID:1383-1711324800-1711324800@https://blanc-jp.com
SUMMARY:洋菓子Ⅰ
DESCRIPTION:ルレオフリュイ
END:VEVENT
BEGIN:VEVENT
DTSTART;VALUE=DATE:20240326
DTEND;VALUE=DATE:20240326
DTSTAMP:20260424T051853
UID:1384-1711411200-1711411200@https://blanc-jp.com
SUMMARY:洋菓子Ⅰ
DESCRIPTION:ルレオフリュイ
END:VEVENT
BEGIN:VEVENT
DTSTART;VALUE=DATE:20240327
DTEND;VALUE=DATE:20240327
DTSTAMP:20260424T051853
UID:1375-1711497600-1711497600@https://blanc-jp.com
SUMMARY:単発
DESCRIPTION:残席あり
END:VEVENT
BEGIN:VEVENT
DTSTART;VALUE=DATE:20240328
DTEND;VALUE=DATE:20240328
DTSTAMP:20260424T051853
UID:1376-1711584000-1711584000@https://blanc-jp.com
SUMMARY:単発
DESCRIPTION:残席あり
END:VEVENT
END:VCALENDAR