BEGIN:VCALENDAR
VERSION:2.0
PRODID:-//パン教室 ブランシュ　− 東京都日野市の自宅パン教室 − - ECPv1.0//NONSGML v1.0//EN
CALSCALE:GREGORIAN
METHOD:PUBLISH
X-WR-CALNAME:パン教室 ブランシュ　− 東京都日野市の自宅パン教室 −
X-ORIGINAL-URL:https://blanc-jp.com
X-WR-CALDESC:Events for パン教室 ブランシュ　− 東京都日野市の自宅パン教室 −
BEGIN:VEVENT
DTSTART;VALUE=DATE:20240703
DTEND;VALUE=DATE:20240703
DTSTAMP:20260424T103236
UID:1429-1719964800-1719964800@https://blanc-jp.com
SUMMARY:師範研究科
DESCRIPTION:プレッツェル
調理パン
END:VEVENT
BEGIN:VEVENT
DTSTART;VALUE=DATE:20240704
DTEND;VALUE=DATE:20240704
DTSTAMP:20260424T103236
UID:1430-1720051200-1720051200@https://blanc-jp.com
SUMMARY:中級
DESCRIPTION:山型食パン
カレーベーコンロール
わらび餅
END:VEVENT
BEGIN:VEVENT
DTSTART;VALUE=DATE:20240705
DTEND;VALUE=DATE:20240705
DTSTAMP:20260424T103236
UID:1432-1720137600-1720137600@https://blanc-jp.com
SUMMARY:＊＊＊
DESCRIPTION:お勉強
END:VEVENT
BEGIN:VEVENT
DTSTART;VALUE=DATE:20240708
DTEND;VALUE=DATE:20240708
DTSTAMP:20260424T103236
UID:1431-1720396800-1720396800@https://blanc-jp.com
SUMMARY:中級
DESCRIPTION:山型食パン
カレーベーコンロール
わらび餅
END:VEVENT
BEGIN:VEVENT
DTSTART;VALUE=DATE:20240710
DTEND;VALUE=DATE:20240710
DTSTAMP:20260424T103236
UID:1423-1720569600-1720569600@https://blanc-jp.com
SUMMARY:単発
DESCRIPTION:残席1
END:VEVENT
BEGIN:VEVENT
DTSTART;VALUE=DATE:20240711
DTEND;VALUE=DATE:20240711
DTSTAMP:20260424T103236
UID:1424-1720656000-1720656000@https://blanc-jp.com
SUMMARY:単発
DESCRIPTION:残席1
END:VEVENT
BEGIN:VEVENT
DTSTART;VALUE=DATE:20240712
DTEND;VALUE=DATE:20240712
DTSTAMP:20260424T103236
UID:1425-1720742400-1720742400@https://blanc-jp.com
SUMMARY:単発
DESCRIPTION:残席あり
END:VEVENT
BEGIN:VEVENT
DTSTART;VALUE=DATE:20240716
DTEND;VALUE=DATE:20240716
DTSTAMP:20260424T103236
UID:1426-1721088000-1721088000@https://blanc-jp.com
SUMMARY:単発
DESCRIPTION:残席あり
END:VEVENT
BEGIN:VEVENT
DTSTART;VALUE=DATE:20240717
DTEND;VALUE=DATE:20240717
DTSTAMP:20260424T103236
UID:1434-1721174400-1721174400@https://blanc-jp.com
SUMMARY:講師研究科
DESCRIPTION:キャラクターパン
END:VEVENT
BEGIN:VEVENT
DTSTART;VALUE=DATE:20240719
DTEND;VALUE=DATE:20240719
DTSTAMP:20260424T103236
UID:1433-1721347200-1721347200@https://blanc-jp.com
SUMMARY:上級
DESCRIPTION:プルマンブレッド
ミルティーユ
くるみまんじゅう
END:VEVENT
BEGIN:VEVENT
DTSTART;VALUE=DATE:20240724
DTEND;VALUE=DATE:20240724
DTSTAMP:20260424T103236
UID:1427-1721779200-1721779200@https://blanc-jp.com
SUMMARY:単発
DESCRIPTION:残席1
END:VEVENT
BEGIN:VEVENT
DTSTART;VALUE=DATE:20240725
DTEND;VALUE=DATE:20240725
DTSTAMP:20260424T103236
UID:1428-1721865600-1721865600@https://blanc-jp.com
SUMMARY:単発
DESCRIPTION:残席あり
END:VEVENT
BEGIN:VEVENT
DTSTART;VALUE=DATE:20240729
DTEND;VALUE=DATE:20240729
DTSTAMP:20260424T103236
UID:1435-1722211200-1722211200@https://blanc-jp.com
SUMMARY:リクエストレッスン
DESCRIPTION:ピッツァスター
林檎のフラムクーヘン
洋梨のマフィン
【満席】キャンセル待ち受付
END:VEVENT
BEGIN:VEVENT
DTSTART;VALUE=DATE:20240730
DTEND;VALUE=DATE:20240730
DTSTAMP:20260424T103236
UID:1440-1722297600-1722297600@https://blanc-jp.com
SUMMARY:リクエストレッスン
DESCRIPTION:リエージュワッフル
ホテルブレッド
ジャムサンドクッキー
残席１
END:VEVENT
BEGIN:VEVENT
DTSTART;VALUE=DATE:20240731
DTEND;VALUE=DATE:20240731
DTSTAMP:20260424T103236
UID:1437-1722384000-1722384000@https://blanc-jp.com
SUMMARY:リクエストレッスン
DESCRIPTION:お花のフォカッチャ
柏あんぱん
フローズンヨーグルト
残席あり
END:VEVENT
END:VCALENDAR