BEGIN:VCALENDAR
VERSION:2.0
PRODID:-//パン教室 ブランシュ　− 東京都日野市の自宅パン教室 − - ECPv1.0//NONSGML v1.0//EN
CALSCALE:GREGORIAN
METHOD:PUBLISH
X-WR-CALNAME:パン教室 ブランシュ　− 東京都日野市の自宅パン教室 −
X-ORIGINAL-URL:https://blanc-jp.com
X-WR-CALDESC:Events for パン教室 ブランシュ　− 東京都日野市の自宅パン教室 −
BEGIN:VEVENT
DTSTART;VALUE=DATE:20220701
DTEND;VALUE=DATE:20220701
DTSTAMP:20260420T083118
UID:1048-1656633600-1656633600@https://blanc-jp.com
SUMMARY:＊＊＊
DESCRIPTION:勉強
END:VEVENT
BEGIN:VEVENT
DTSTART;VALUE=DATE:20220705
DTEND;VALUE=DATE:20220705
DTSTAMP:20260420T083118
UID:1049-1656979200-1656979200@https://blanc-jp.com
SUMMARY:初級
DESCRIPTION:コルネ
メロンパン
水ようかん
END:VEVENT
BEGIN:VEVENT
DTSTART;VALUE=DATE:20220706
DTEND;VALUE=DATE:20220706
DTSTAMP:20260420T083118
UID:1050-1657065600-1657065600@https://blanc-jp.com
SUMMARY:師範研究科
DESCRIPTION:グラハムブレッド
柔杏仁
END:VEVENT
BEGIN:VEVENT
DTSTART;VALUE=DATE:20220708
DTEND;VALUE=DATE:20220708
DTSTAMP:20260420T083118
UID:1051-1657238400-1657238400@https://blanc-jp.com
SUMMARY:上級
DESCRIPTION:フロマージュ
大納言ブレッド
黒胡麻プリン
END:VEVENT
BEGIN:VEVENT
DTSTART;VALUE=DATE:20220711
DTEND;VALUE=DATE:20220711
DTSTAMP:20260420T083118
UID:1056-1657497600-1657497600@https://blanc-jp.com
SUMMARY:講師研究科
DESCRIPTION:
END:VEVENT
BEGIN:VEVENT
DTSTART;VALUE=DATE:20220713
DTEND;VALUE=DATE:20220713
DTSTAMP:20260420T083118
UID:1044-1657670400-1657670400@https://blanc-jp.com
SUMMARY:リクエスト単発
DESCRIPTION:ごこくとげんまいパン
あんバタークッペ
ポンデケージョ
残席あり
END:VEVENT
BEGIN:VEVENT
DTSTART;VALUE=DATE:20220714
DTEND;VALUE=DATE:20220714
DTSTAMP:20260420T083118
UID:1045-1657756800-1657756800@https://blanc-jp.com
SUMMARY:リクエスト単発
DESCRIPTION:ごこくとげんまいパン
ピッツァ
黒胡麻プリン
残席についてはお問い合わせください
END:VEVENT
BEGIN:VEVENT
DTSTART;VALUE=DATE:20220718
DTEND;VALUE=DATE:20220718
DTSTAMP:20260420T083118
UID:1058-1658102400-1658102400@https://blanc-jp.com
SUMMARY:（海の日）
DESCRIPTION:
END:VEVENT
BEGIN:VEVENT
DTSTART;VALUE=DATE:20220726
DTEND;VALUE=DATE:20220726
DTSTAMP:20260420T083118
UID:1059-1658793600-1658793600@https://blanc-jp.com
SUMMARY:リクエスト単発
DESCRIPTION:あんバタークッペ
桜エビのマヨパン
アーモンドキャラメルクッキー
残席についてはお問い合わせください
END:VEVENT
BEGIN:VEVENT
DTSTART;VALUE=DATE:20220727
DTEND;VALUE=DATE:20220727
DTSTAMP:20260420T083118
UID:1052-1658880000-1658880000@https://blanc-jp.com
SUMMARY:上級
DESCRIPTION:フロマージュ
大納言ブレッド
黒胡麻プリン
END:VEVENT
BEGIN:VEVENT
DTSTART;VALUE=DATE:20220728
DTEND;VALUE=DATE:20220728
DTSTAMP:20260420T083118
UID:1047-1658966400-1658966400@https://blanc-jp.com
SUMMARY:単発
DESCRIPTION:チェダーチーズクッペ
ココレモン
抹茶水ようかん
【満席】キャンセル待ち受付
END:VEVENT
BEGIN:VEVENT
DTSTART;VALUE=DATE:20220729
DTEND;VALUE=DATE:20220729
DTSTAMP:20260420T083118
UID:1057-1659052800-1659052800@https://blanc-jp.com
SUMMARY:上級
DESCRIPTION:グラハムブレッド
まめあん
ケーゼシュタンゲン
END:VEVENT
END:VCALENDAR