BEGIN:VCALENDAR
VERSION:2.0
PRODID:-//パン教室 ブランシュ　− 東京都日野市の自宅パン教室 − - ECPv1.0//NONSGML v1.0//EN
CALSCALE:GREGORIAN
METHOD:PUBLISH
X-WR-CALNAME:パン教室 ブランシュ　− 東京都日野市の自宅パン教室 −
X-ORIGINAL-URL:https://blanc-jp.com
X-WR-CALDESC:Events for パン教室 ブランシュ　− 東京都日野市の自宅パン教室 −
BEGIN:VEVENT
DTSTART;VALUE=DATE:20231201
DTEND;VALUE=DATE:20231201
DTSTAMP:20260424T013959
UID:1333-1701388800-1701388800@https://blanc-jp.com
SUMMARY:＊＊＊
DESCRIPTION:勉強
END:VEVENT
BEGIN:VEVENT
DTSTART;VALUE=DATE:20231204
DTEND;VALUE=DATE:20231204
DTSTAMP:20260424T013959
UID:1318-1701648000-1701648000@https://blanc-jp.com
SUMMARY:ﾜｰｸｼｮｯﾌﾟ＊シュトーレン
DESCRIPTION:中級でシュトーレンを受講済の方
【満席】
END:VEVENT
BEGIN:VEVENT
DTSTART;VALUE=DATE:20231205
DTEND;VALUE=DATE:20231205
DTSTAMP:20260424T013959
UID:1319-1701734400-1701734400@https://blanc-jp.com
SUMMARY:ﾜｰｸｼｮｯﾌﾟ＊シュトーレン
DESCRIPTION:中級でシュトーレンを受講済の方
残席あり
END:VEVENT
BEGIN:VEVENT
DTSTART;VALUE=DATE:20231206
DTEND;VALUE=DATE:20231206
DTSTAMP:20260424T013959
UID:1320-1701820800-1701820800@https://blanc-jp.com
SUMMARY:単発
DESCRIPTION:【満席】
キャンセル待ち受付
END:VEVENT
BEGIN:VEVENT
DTSTART;VALUE=DATE:20231207
DTEND;VALUE=DATE:20231207
DTSTAMP:20260424T013959
UID:1321-1701907200-1701907200@https://blanc-jp.com
SUMMARY:単発
DESCRIPTION:【満席】
キャンセル待ち受付
END:VEVENT
BEGIN:VEVENT
DTSTART;VALUE=DATE:20231208
DTEND;VALUE=DATE:20231208
DTSTAMP:20260424T013959
UID:1322-1701993600-1701993600@https://blanc-jp.com
SUMMARY:単発
DESCRIPTION:【満席】
キャンセル待ち受付
END:VEVENT
BEGIN:VEVENT
DTSTART;VALUE=DATE:20231211
DTEND;VALUE=DATE:20231211
DTSTAMP:20260424T013959
UID:1325-1702252800-1702252800@https://blanc-jp.com
SUMMARY:中級
DESCRIPTION:シュトーレン
チーズバンズ
オレンジケーキ
END:VEVENT
BEGIN:VEVENT
DTSTART;VALUE=DATE:20231212
DTEND;VALUE=DATE:20231212
DTSTAMP:20260424T013959
UID:1326-1702339200-1702339200@https://blanc-jp.com
SUMMARY:上級
DESCRIPTION:バターフィセル
マルグリット
END:VEVENT
BEGIN:VEVENT
DTSTART;VALUE=DATE:20231213
DTEND;VALUE=DATE:20231213
DTSTAMP:20260424T013959
UID:1328-1702425600-1702425600@https://blanc-jp.com
SUMMARY:講師研究科
DESCRIPTION:ミルクボール
トリエスティーニ
END:VEVENT
BEGIN:VEVENT
DTSTART;VALUE=DATE:20231214
DTEND;VALUE=DATE:20231214
DTSTAMP:20260424T013959
UID:1323-1702512000-1702512000@https://blanc-jp.com
SUMMARY:単発
DESCRIPTION:残席あり
END:VEVENT
BEGIN:VEVENT
DTSTART;VALUE=DATE:20231215
DTEND;VALUE=DATE:20231215
DTSTAMP:20260424T013959
UID:1329-1702598400-1702598400@https://blanc-jp.com
SUMMARY:上級
DESCRIPTION:ホットドックギディ
パネトーネ
スノーボール
END:VEVENT
BEGIN:VEVENT
DTSTART;VALUE=DATE:20231218
DTEND;VALUE=DATE:20231218
DTSTAMP:20260424T013959
UID:1330-1702857600-1702857600@https://blanc-jp.com
SUMMARY:洋菓子
DESCRIPTION:ガトーフレーズ
【満席】
END:VEVENT
BEGIN:VEVENT
DTSTART;VALUE=DATE:20231219
DTEND;VALUE=DATE:20231219
DTSTAMP:20260424T013959
UID:1331-1702944000-1702944000@https://blanc-jp.com
SUMMARY:洋菓子
DESCRIPTION:ガトーフレーズ
残席１
END:VEVENT
BEGIN:VEVENT
DTSTART;VALUE=DATE:20231220
DTEND;VALUE=DATE:20231220
DTSTAMP:20260424T013959
UID:1324-1703030400-1703030400@https://blanc-jp.com
SUMMARY:単発
DESCRIPTION:残席あり
END:VEVENT
BEGIN:VEVENT
DTSTART;VALUE=DATE:20231221
DTEND;VALUE=DATE:20231221
DTSTAMP:20260424T013959
UID:1327-1703116800-1703116800@https://blanc-jp.com
SUMMARY:上級
DESCRIPTION:バターフィセル
マルグリット
END:VEVENT
BEGIN:VEVENT
DTSTART;VALUE=DATE:20231222
DTEND;VALUE=DATE:20231222
DTSTAMP:20260424T013959
UID:1332-1703203200-1703203200@https://blanc-jp.com
SUMMARY:洋菓子
DESCRIPTION:ガトーフレーズ
残席１
END:VEVENT
END:VCALENDAR