BEGIN:VCALENDAR
VERSION:2.0
PRODID:-//パン教室 ブランシュ　− 東京都日野市の自宅パン教室 − - ECPv1.0//NONSGML v1.0//EN
CALSCALE:GREGORIAN
METHOD:PUBLISH
X-WR-CALNAME:パン教室 ブランシュ　− 東京都日野市の自宅パン教室 −
X-ORIGINAL-URL:https://blanc-jp.com
X-WR-CALDESC:Events for パン教室 ブランシュ　− 東京都日野市の自宅パン教室 −
BEGIN:VEVENT
DTSTART;VALUE=DATE:20211201
DTEND;VALUE=DATE:20211201
DTSTAMP:20260421T082053
UID:925-1638316800-1638316800@https://blanc-jp.com
SUMMARY:師範研究科
DESCRIPTION:チョコマロン
琥珀
END:VEVENT
BEGIN:VEVENT
DTSTART;VALUE=DATE:20211202
DTEND;VALUE=DATE:20211202
DTSTAMP:20260421T082053
UID:926-1638403200-1638403200@https://blanc-jp.com
SUMMARY:上級
DESCRIPTION:チョコマロン
サブマリン
巻いてクレープ
END:VEVENT
BEGIN:VEVENT
DTSTART;VALUE=DATE:20211203
DTEND;VALUE=DATE:20211203
DTSTAMP:20260421T082053
UID:927-1638489600-1638489600@https://blanc-jp.com
SUMMARY:＊＊＊
DESCRIPTION:お勉強
END:VEVENT
BEGIN:VEVENT
DTSTART;VALUE=DATE:20211206
DTEND;VALUE=DATE:20211206
DTSTAMP:20260421T082053
UID:928-1638748800-1638748800@https://blanc-jp.com
SUMMARY:ワークショップ　シュトーレン
DESCRIPTION:レッスンを受講済みの方が対象です
【満席】キャンセル待ち受付
END:VEVENT
BEGIN:VEVENT
DTSTART;VALUE=DATE:20211207
DTEND;VALUE=DATE:20211207
DTSTAMP:20260421T082053
UID:929-1638835200-1638835200@https://blanc-jp.com
SUMMARY:ワークショップ　シュトーレン
DESCRIPTION:レッスンを受講済みの方が対象です
【満席】キャンセル待ち受付
END:VEVENT
BEGIN:VEVENT
DTSTART;VALUE=DATE:20211208
DTEND;VALUE=DATE:20211208
DTSTAMP:20260421T082053
UID:930-1638921600-1638921600@https://blanc-jp.com
SUMMARY:単発
DESCRIPTION:【満席】
キャンセル待ち受付
END:VEVENT
BEGIN:VEVENT
DTSTART;VALUE=DATE:20211209
DTEND;VALUE=DATE:20211209
DTSTAMP:20260421T082053
UID:931-1639008000-1639008000@https://blanc-jp.com
SUMMARY:単発
DESCRIPTION:【満席】キャンセル待ち受付
END:VEVENT
BEGIN:VEVENT
DTSTART;VALUE=DATE:20211210
DTEND;VALUE=DATE:20211210
DTSTAMP:20260421T082053
UID:940-1639094400-1639094400@https://blanc-jp.com
SUMMARY:中級
DESCRIPTION:デニッシュペストリー
ポンデケージョ
END:VEVENT
BEGIN:VEVENT
DTSTART;VALUE=DATE:20211213
DTEND;VALUE=DATE:20211213
DTSTAMP:20260421T082053
UID:942-1639353600-1639353600@https://blanc-jp.com
SUMMARY:初級（体験可）
DESCRIPTION:シナモンロール
ロールパン
プリン
END:VEVENT
BEGIN:VEVENT
DTSTART;VALUE=DATE:20211214
DTEND;VALUE=DATE:20211214
DTSTAMP:20260421T082053
UID:937-1639440000-1639440000@https://blanc-jp.com
SUMMARY:上級
DESCRIPTION:ホットドックギディ
チーズバンズ
スノーボール
END:VEVENT
BEGIN:VEVENT
DTSTART;VALUE=DATE:20211215
DTEND;VALUE=DATE:20211215
DTSTAMP:20260421T082053
UID:932-1639526400-1639526400@https://blanc-jp.com
SUMMARY:単発
DESCRIPTION:残席あり
END:VEVENT
BEGIN:VEVENT
DTSTART;VALUE=DATE:20211216
DTEND;VALUE=DATE:20211216
DTSTAMP:20260421T082053
UID:938-1639612800-1639612800@https://blanc-jp.com
SUMMARY:中級
DESCRIPTION:シュトーレン
チーズバンズ
チョコチップクッキー
END:VEVENT
BEGIN:VEVENT
DTSTART;VALUE=DATE:20211217
DTEND;VALUE=DATE:20211217
DTSTAMP:20260421T082053
UID:934-1639699200-1639699200@https://blanc-jp.com
SUMMARY:単発
DESCRIPTION:残席あり
END:VEVENT
BEGIN:VEVENT
DTSTART;VALUE=DATE:20211221
DTEND;VALUE=DATE:20211221
DTSTAMP:20260421T082053
UID:939-1640044800-1640044800@https://blanc-jp.com
SUMMARY:中級
DESCRIPTION:シュトーレン
チーズバンズ
チョコチップクッキー
END:VEVENT
BEGIN:VEVENT
DTSTART;VALUE=DATE:20211222
DTEND;VALUE=DATE:20211222
DTSTAMP:20260421T082053
UID:941-1640131200-1640131200@https://blanc-jp.com
SUMMARY:中級
DESCRIPTION:デニッシュペストリー
ポンデケージョ
END:VEVENT
BEGIN:VEVENT
DTSTART;VALUE=DATE:20211223
DTEND;VALUE=DATE:20211223
DTSTAMP:20260421T082053
UID:935-1640217600-1640217600@https://blanc-jp.com
SUMMARY:クリスマスケーキ
DESCRIPTION:残席あり
END:VEVENT
BEGIN:VEVENT
DTSTART;VALUE=DATE:20211224
DTEND;VALUE=DATE:20211224
DTSTAMP:20260421T082053
UID:933-1640304000-1640304000@https://blanc-jp.com
SUMMARY:クリスマスケーキ
DESCRIPTION:キャンセル出ました
残席1
END:VEVENT
END:VCALENDAR