BEGIN:VCALENDAR
VERSION:2.0
PRODID:-//パン教室 ブランシュ　− 東京都日野市の自宅パン教室 − - ECPv1.0//NONSGML v1.0//EN
CALSCALE:GREGORIAN
METHOD:PUBLISH
X-WR-CALNAME:パン教室 ブランシュ　− 東京都日野市の自宅パン教室 −
X-ORIGINAL-URL:https://blanc-jp.com
X-WR-CALDESC:Events for パン教室 ブランシュ　− 東京都日野市の自宅パン教室 −
BEGIN:VEVENT
DTSTART;VALUE=DATE:20240801
DTEND;VALUE=DATE:20240801
DTSTAMP:20260424T115114
UID:1443-1722470400-1722470400@https://blanc-jp.com
SUMMARY:リクエストレッスン
DESCRIPTION:ホージドカンパーニュ
ポムノア
くるみ柚餅子
残席あり
END:VEVENT
BEGIN:VEVENT
DTSTART;VALUE=DATE:20240802
DTEND;VALUE=DATE:20240802
DTSTAMP:20260424T115114
UID:1444-1722556800-1722556800@https://blanc-jp.com
SUMMARY:＊＊＊
DESCRIPTION:お勉強
END:VEVENT
BEGIN:VEVENT
DTSTART;VALUE=DATE:20240805
DTEND;VALUE=DATE:20240805
DTSTAMP:20260424T115114
UID:1436-1722816000-1722816000@https://blanc-jp.com
SUMMARY:リクエストレッスン
DESCRIPTION:チーズポテトブレッド
きなこナッツ
みぞれ寒
残席あり
END:VEVENT
BEGIN:VEVENT
DTSTART;VALUE=DATE:20240806
DTEND;VALUE=DATE:20240806
DTSTAMP:20260424T115114
UID:1441-1722902400-1722902400@https://blanc-jp.com
SUMMARY:リクエストレッスン
DESCRIPTION:ピーナッツロール
メイプルシュガーパン
パーチディダーマ
残席1
END:VEVENT
BEGIN:VEVENT
DTSTART;VALUE=DATE:20240807
DTEND;VALUE=DATE:20240807
DTSTAMP:20260424T115114
UID:1442-1722988800-1722988800@https://blanc-jp.com
SUMMARY:リクエストレッスン（キャンセル出ました）
DESCRIPTION:よもわ
ポムノア
くるみ柚餅子
残席1
END:VEVENT
BEGIN:VEVENT
DTSTART;VALUE=DATE:20240808
DTEND;VALUE=DATE:20240808
DTSTAMP:20260424T115114
UID:1438-1723075200-1723075200@https://blanc-jp.com
SUMMARY:リクエストレッスン
DESCRIPTION:ホージドカンパーニュ
ポムノア
くるみ柚餅子
【満席】キャンセル待ち受付
END:VEVENT
BEGIN:VEVENT
DTSTART;VALUE=DATE:20240809
DTEND;VALUE=DATE:20240809
DTSTAMP:20260424T115114
UID:1439-1723161600-1723161600@https://blanc-jp.com
SUMMARY:リクエストレッスン
DESCRIPTION:ピーナッツロール
ポムノア
くるみ柚餅子
残席あり
END:VEVENT
END:VCALENDAR