BEGIN:VCALENDAR
VERSION:2.0
PRODID:-//パン教室 ブランシュ　− 東京都日野市の自宅パン教室 − - ECPv1.0//NONSGML v1.0//EN
CALSCALE:GREGORIAN
METHOD:PUBLISH
X-WR-CALNAME:パン教室 ブランシュ　− 東京都日野市の自宅パン教室 −
X-ORIGINAL-URL:https://blanc-jp.com
X-WR-CALDESC:Events for パン教室 ブランシュ　− 東京都日野市の自宅パン教室 −
BEGIN:VEVENT
DTSTART;VALUE=DATE:20230801
DTEND;VALUE=DATE:20230801
DTSTAMP:20260423T203739
UID:1272-1690848000-1690848000@https://blanc-jp.com
SUMMARY:師範研究科
DESCRIPTION:バターロール
ヌスボイゲル
END:VEVENT
BEGIN:VEVENT
DTSTART;VALUE=DATE:20230802
DTEND;VALUE=DATE:20230802
DTSTAMP:20260423T203739
UID:1267-1690934400-1690934400@https://blanc-jp.com
SUMMARY:リクエストレッスン
DESCRIPTION:メイプルシュガーパン
チーズベーコンブレッド
ノエルフロマージュ
【満席】キャンセル待ち受付
END:VEVENT
BEGIN:VEVENT
DTSTART;VALUE=DATE:20230803
DTEND;VALUE=DATE:20230803
DTSTAMP:20260423T203739
UID:1268-1691020800-1691020800@https://blanc-jp.com
SUMMARY:中級
DESCRIPTION:カレーパン
コーンブレッド
宇治ぜんざい
END:VEVENT
BEGIN:VEVENT
DTSTART;VALUE=DATE:20230804
DTEND;VALUE=DATE:20230804
DTSTAMP:20260423T203739
UID:1269-1691107200-1691107200@https://blanc-jp.com
SUMMARY:＊＊＊
DESCRIPTION:お勉強
END:VEVENT
END:VCALENDAR